Workbook
Name Требования: [1]Лист3!$A$1:$A$2

Sheet ЗАЯВКА
A1: Заявка на участие в конкурсе Налогоплательщик года:
A2: Все пункты заявки отмеченные (*) обязательны к заполнению.
A3: Все внесенные Вами данные будут перенесены в наградные документы "как есть". Будьте внимательны!
A6: Номинация *
A8: Полное наименование организации (индивидуального предпринимателя) *
A10: Сокращенное наименование организации (индивидуального предпринимателя) *
A12: Идентификационный номер налогоплательщика (ИНН) *
A14: Основной вид деятельности по ОКВЭД-2 *
A16: ФИО и Номер телефона исполнителя *
A18: Фактический адрес *
A20: Адрес электронной почты *
A22: ФИО руководителя организации (индивидуального предпринимателя), должность *
... A31: Настоящим сообщаю *:
A32: 1. | B32: По состоянию на | D32: хх.хх.2025 года | F32: в отношении
A33: не принято решение о ликивдации или введении процедуры, применяемой в деле о банкротстве.
A34: 2. | B34: По состоянию на | D34: хх.хх.2025 года | F34: задолженности по налоговым и иным
A35: обязательным платежам в бюджеты всех уровней и внебюджетные фонды не имеется.
A36: 3. | B36: В | C36: 2024 | D36: году решения о привлечении к отвественности за совершение
A37: налогового правонарушения налоговым органом | F37: не выносились.
A38: 4. | B38: Налоговая и бухгалтерская отчетность была представлена за | H38: 2024 | I38: год
A39: в полном объеме в установленные законодательством сроки в
A41: 5. | B41: Выручка организации (индивидуального предпринимателя) по данным бухгалтерской
A42: или налоговой отчетности, единица измерений тыс. рублей.
A43: указать год | C43: 2024 | D43: год
E44: тыс. рублей
A45: 6. | B45: Поступления (налоговые) в консолидированный бюджет Республики Башкортостан
A46: указать год | C46: 2023 | D46: год | G46: 2024 | H46: год
E47: тыс. рублей | I47: тыс. рублей
A48: 7. | B48: Среднесписочная численность работников организации (индивидуального предпринимателя)
A49: без учета внешних совместителей
A50: указать год | C50: 2023 | D50: год | G50: 2024 | H50: год
E51: чел. | I51: чел.
A52: 8. | B52: Фонд оплаты труда работников организации (индивидуального предпринимателя)
A53: без учета внешних совместителей
A54: указать год | C54: 2023 | D54: год | G54: 2024 | H54: год
E55: тыс. рублей | I55: тыс. рублей
A57: 9. | B57: Среднемесячная заработная плата работников организации (индивидуального предпринимателя)
A58: без учета внешних совместителей
A59: указать год | C59: 2023 | D59: год | G59: 2024 | H59: год
E60: тыс. рублей | I60: тыс. рублей
...

Sheet Данные (не удалять)
A1: Организация (ИП) | B1: Полное наименование | C1: Номинация | D1: ИНН | E1: ОКВЭД по ЕГРЮЛ | F1: ОКВЭД | G1: № вх. письма в СЭД | H1: Дата | I1: Адрес физический | J1: Контакт | K1: Email | L1: Фио | M1: Проверка по требованию | N1: А) | O1: Б) | P1: В) | Q1: Г) | R1: Д) | S1: Е) | T1: Выручка 2024, тыс руб | U1: Выручка в Интернете, тыс руб | V1: Сумма налога 2023, справке, тыс руб | W1: Данные по Кристе (организаций) 2023 | X1: Сумма налога 2024, по справке, тыс руб | Y1: Данные по Кристе (организаций) 2024 | Z1: Численность 2023 | AA1: Численность 2024 | AB1: ФОТ 2023,тыс руб | AC1: Ср ЗП 2023 | AD1: ФОТ 2024, тыс руб | AE1: Ср ЗП 2024 | AF1: Ср ЗП 2024 | AG1: МСП | AH1: Кто посоветовал участвовать | AI1: Стандарт | AJ1: Статус участника | AK1: Дата отправки письма | AL1: Номер письма | AM1: Столбец1 | AN1: Столбец2 | AO1: Место
A2: =ЗАЯВКА!A11 -> 0 | B2: =ЗАЯВКА!A9 -> 0 | C2: =ЗАЯВКА!A7 -> 0 | D2: =ЗАЯВКА!A13 -> 0 | F2: =ЗАЯВКА!A15 -> 0 | I2: =ЗАЯВКА!A19 -> 0 | J2: =ЗАЯВКА!A17 -> 0 | K2: =ЗАЯВКА!A21 -> 0 | L2: =ЗАЯВКА!A23 -> 0 | T2: =ЗАЯВКА!C44 -> 0 | V2: =ЗАЯВКА!C47 -> 0 | X2: =ЗАЯВКА!G47 -> 0 | Z2: =ЗАЯВКА!C51 -> 0 | AA2: =ЗАЯВКА!G51 -> 0 | AB2: =ЗАЯВКА!C55 -> 0 | AC2: =ЗАЯВКА!C60 -> 0 | AD2: =ЗАЯВКА!G55 -> 0 | AE2: =ЗАЯВКА!G60 -> 0 | AG2: =ЗАЯВКА!A26 -> 0 | AH2: =ЗАЯВКА!A28 -> 0 | AI2: =ЗАЯВКА!A30 -> 0
AQ23: Сельское, лесное хозяйство, охота, рыболовство и рыбоводство
AQ24: Добыча полезных ископаемых
AQ25: Обрабатывающие производства
AQ26: Обеспечение электрической энергией, газом и паром
AQ27: Строительство
AQ28: Торговля
AQ29: Транспортировка и хранение
AQ30: Деятельность профессиональная, научная и техническая
AQ31: по прочим видам деятельности
AQ33: Крупное
AQ34: Среднее (в том числе ГУП/МУП)
AQ35: Малое (в том числе ИП)
AQ36: Не являюсь участником МСП
